BEGIN:VCALENDAR
VERSION:2.0
CALSCALE:GREGORIAN
PRODID:-//Diputació de Barcelona//DibaCMS//EN
BEGIN:VEVENT
UID:5911
DTSTAMP:20260423T001656
DTSTART:20130318T000000
DTEND:20140318T000000
SUMMARY:La Colla gegantera de la Llagosta, molt satisfeta amb la cinquena Trobada de gegants
LOCATION:
METHOD:PUBLISH
X-WR-CALNAME:llagosta@llagosta.cat
X-WR-TIMEZONE:Europe/Madrid
DESCRIPTION:La Colla gegantera de la Llagosta va organitzar ahir la cinquena Trobada de gegants i capgrossos de la nostra localitat. L'activitat va atreure un bon nombre de veïns, tot i la pluja.
URI:https://www.llagosta.cat/actualitat/noticies/la-colla-gegantera-de-la-llagosta-molt-satisfeta-amb-la-cinquena-trobada-de-gegants.html
CLASS:PUBLIC
END:VEVENT
END:VCALENDAR
