BEGIN:VCALENDAR
VERSION:2.0
CALSCALE:GREGORIAN
PRODID:-//Diputació de Barcelona//DibaCMS//EN
BEGIN:VEVENT
UID:5910
DTSTAMP:20260422T184408
DTSTART:20130318T000000
DTEND:20140318T000000
SUMMARY:La Regidoria de Joventut convoca una reunió perquè els joves facin propostes per a la Festa Major
LOCATION:
METHOD:PUBLISH
X-WR-CALNAME:llagosta@llagosta.cat
X-WR-TIMEZONE:Europe/Madrid
DESCRIPTION:La Regidoria de Joventut vol obrir un espai participatiu per tal que els joves de la Llagosta puguin aportar les seves propostes d'activitats per a l'Espai Jove de la Festa Major de 2013. Amb aquest objectiu, convoca una trobada per al dimecres 20 de març a les set de la tarda a Can Pelegrí. 
URI:https://www.llagosta.cat/actualitat/noticies/la-regidoria-de-joventut-convoca-una-reunio-perque-els-joves-facin-propostes-per-a-la-festa-major.html
CLASS:PUBLIC
END:VEVENT
END:VCALENDAR
