BEGIN:VCALENDAR
VERSION:2.0
CALSCALE:GREGORIAN
PRODID:-//Diputació de Barcelona//DibaCMS//EN
BEGIN:VEVENT
UID:5909
DTSTAMP:20260423T190749
DTSTART:20130318T000000
DTEND:20140318T000000
SUMMARY:La Unión Llagostense perdona massa ocasions de gol i cau contra el Vilafant (3-2)
LOCATION:
METHOD:PUBLISH
X-WR-CALNAME:llagosta@llagosta.cat
X-WR-TIMEZONE:Europe/Madrid
DESCRIPTION:El primer equip del Fútbol Sala Unión Llagostense va perdre el cap de setmana a la pista del Vilafant per 3 a 2. El conjunt que entrena José Manuel Poyato no va estar encertat en atac i, a més, va patir un arbitratge desfavorable.
URI:https://www.llagosta.cat/actualitat/noticies/la-union-llagostense-perdona-massa-ocasions-de-gol-i-cau-contra-el-vilafant-3-2.html
CLASS:PUBLIC
END:VEVENT
END:VCALENDAR
