BEGIN:VCALENDAR
VERSION:2.0
CALSCALE:GREGORIAN
PRODID:-//Diputació de Barcelona//DibaCMS//EN
BEGIN:VEVENT
UID:5908
DTSTAMP:20260422T122101
DTSTART:20130315T000000
DTEND:20140315T000000
SUMMARY:L'Escola Municipal de Música, representada diumenge al concert de l'ACEM
LOCATION:
METHOD:PUBLISH
X-WR-CALNAME:llagosta@llagosta.cat
X-WR-TIMEZONE:Europe/Madrid
DESCRIPTION:Deu alumnes de l'Escola Municipal de Música de la Llagosta participaran diumenge a la cantanta infantil El nen enamorat de la lluna. El concert es farà a l'Auditori Gran del Parc del Fòrum. L'acte està organitzat per l'Associació Catalana d'Escoles de Música i Dansa (ACEM) amb motiu del seu vintè aniversari.
URI:https://www.llagosta.cat/actualitat/noticies/lescola-municipal-de-musica-representada-diumenge-al-concert-de-lacem.html
CLASS:PUBLIC
END:VEVENT
END:VCALENDAR
