BEGIN:VCALENDAR
VERSION:2.0
CALSCALE:GREGORIAN
PRODID:-//Diputació de Barcelona//DibaCMS//EN
BEGIN:VEVENT
UID:5907
DTSTAMP:20260422T141502
DTSTART:20130315T000000
DTEND:20140315T000000
SUMMARY:Infants i pares van aprendre ahir conceptes de jardineria al Casal Obert
LOCATION:
METHOD:PUBLISH
X-WR-CALNAME:llagosta@llagosta.cat
X-WR-TIMEZONE:Europe/Madrid
DESCRIPTION:El taller de primavera del Casal Obert va comptar ahir amb un bon nombre de participants. El Casal Infantil va acollir una setmana més aquesta activitat oberta a totes les famílies. El taller tenia com a objectiu ensenyar als nens i a les nenes, d'una manera molt didàctica, com plantar les llavors amb introducció a conceptes bàsics de jardineria.
URI:https://www.llagosta.cat/actualitat/noticies/infants-i-pares-van-aprendre-ahir-conceptes-de-jardineria-al-casal-obert.html
CLASS:PUBLIC
END:VEVENT
END:VCALENDAR
