BEGIN:VCALENDAR
VERSION:2.0
CALSCALE:GREGORIAN
PRODID:-//Diputació de Barcelona//DibaCMS//EN
BEGIN:VEVENT
UID:5906
DTSTAMP:20260422T202052
DTSTART:20130315T000000
DTEND:20140315T000000
SUMMARY:L'entitat local Rems instal·larà demà un estand informatiu a l'avinguda de l'Onze de Setembre
LOCATION:
METHOD:PUBLISH
X-WR-CALNAME:llagosta@llagosta.cat
X-WR-TIMEZONE:Europe/Madrid
DESCRIPTION:L'Associació de voluntariat Rems instal·larà demà al passeig de l'avinguda de l'Onze de Setembre un estand informatiu. L'entitat també vol recaptar fons per poder tirar endavant els projectes solidaris que té en marxa.
URI:https://www.llagosta.cat/actualitat/noticies/lentitat-local-rems-installara-dema-un-estand-informatiu-a-lavinguda-de-lonze-de-setembre.html
CLASS:PUBLIC
END:VEVENT
END:VCALENDAR
