BEGIN:VCALENDAR
VERSION:2.0
CALSCALE:GREGORIAN
PRODID:-//Diputació de Barcelona//DibaCMS//EN
BEGIN:VEVENT
UID:5905
DTSTAMP:20260422T053429
DTSTART:20130315T000000
DTEND:20140315T000000
SUMMARY:Nova manifestació ahir a la Llagosta dels empleats públics i de les AMPA de la Llagosta
LOCATION:
METHOD:PUBLISH
X-WR-CALNAME:llagosta@llagosta.cat
X-WR-TIMEZONE:Europe/Madrid
DESCRIPTION:Empleades i empleats públics i membres de les AMPA de la Llagosta es van tornar a manifestar ahir pels carrers de la Llagosta en defensa dels serveis públics i contra les mesures del Govern central i la Generalitat en matèria social i laboral. Aquesta ha estat la cinquena protesta consecutiva convocada a la nostra localitat.
URI:https://www.llagosta.cat/actualitat/noticies/nova-manifestacio-ahir-a-la-llagosta-dels-empleats-publics-i-de-les-ampa-de-la-llagosta.html
CLASS:PUBLIC
END:VEVENT
END:VCALENDAR
