BEGIN:VCALENDAR
VERSION:2.0
CALSCALE:GREGORIAN
PRODID:-//Diputació de Barcelona//DibaCMS//EN
BEGIN:VEVENT
UID:5904
DTSTAMP:20260422T231032
DTSTART:20130315T000000
DTEND:20140315T000000
SUMMARY:El conjunt sènior de l'EBC rep la visita del CN Caldes B després de perdre a Parets (72-65)
LOCATION:
METHOD:PUBLISH
X-WR-CALNAME:llagosta@llagosta.cat
X-WR-TIMEZONE:Europe/Madrid
DESCRIPTION:El sènior de l'Esportiu Bàsquet Club de la Llagosta rebrà aquesta jornada la visita del Club Natació Caldes B. Els de la nostra localitat afronten aquest partit després de perdre la setmana passada per 72 a 65 a la pista del Parets.
URI:https://www.llagosta.cat/actualitat/noticies/el-conjunt-senior-de-lebc-rep-la-visita-del-cn-caldes-b-despres-de-perdre-a-parets-72-65.html
CLASS:PUBLIC
END:VEVENT
END:VCALENDAR
