BEGIN:VCALENDAR
VERSION:2.0
CALSCALE:GREGORIAN
PRODID:-//Diputació de Barcelona//DibaCMS//EN
BEGIN:VEVENT
UID:5903
DTSTAMP:20260422T033830
DTSTART:20130315T000000
DTEND:20140315T000000
SUMMARY:La Trobada de Gegants i altres actes, aquest cap de setmana per les festes de Sant Josep
LOCATION:
METHOD:PUBLISH
X-WR-CALNAME:llagosta@llagosta.cat
X-WR-TIMEZONE:Europe/Madrid
DESCRIPTION:Aquest cap de setmana es desenvoluparan bona part dels actes de la programació que ha preparat l'Ajuntament de la Llagosta amb la col·laboració de diverses entitats per celebrar les festes de Sant Josep a la nostra localitat.
URI:https://www.llagosta.cat/actualitat/noticies/la-trobada-de-gegants-i-altres-actes-aquest-cap-de-setmana-per-les-festes-de-sant-josep.html
CLASS:PUBLIC
END:VEVENT
END:VCALENDAR
