BEGIN:VCALENDAR
VERSION:2.0
CALSCALE:GREGORIAN
PRODID:-//Diputació de Barcelona//DibaCMS//EN
BEGIN:VEVENT
UID:5902
DTSTAMP:20260422T204921
DTSTART:20130314T000000
DTEND:20140314T000000
SUMMARY:Convocada la vintena edició del Concurs de Fotografia del Dia Internacional de les Dones
LOCATION:
METHOD:PUBLISH
X-WR-CALNAME:llagosta@llagosta.cat
X-WR-TIMEZONE:Europe/Madrid
DESCRIPTION:El Foto-Club La Llagosta ha convocat el Concurs de Fotografia Dia Internacional de les Dones 2013. El certamen arriba enguany a la seva vintena edició amb la creació de dos premis locals, que se sumen als tres primers premis ja existents.
URI:https://www.llagosta.cat/actualitat/noticies/convocada-la-vintena-edicio-del-concurs-de-fotografia-del-dia-internacional-de-les-dones.html
CLASS:PUBLIC
END:VEVENT
END:VCALENDAR
