BEGIN:VCALENDAR
VERSION:2.0
CALSCALE:GREGORIAN
PRODID:-//Diputació de Barcelona//DibaCMS//EN
BEGIN:VEVENT
UID:5901
DTSTAMP:20260422T051550
DTSTART:20130314T000000
DTEND:20140314T000000
SUMMARY:El sènior del Vallag deixa escapar la victòria contra el Palautordera a la segona part
LOCATION:
METHOD:PUBLISH
X-WR-CALNAME:llagosta@llagosta.cat
X-WR-TIMEZONE:Europe/Madrid
DESCRIPTION:El sènior de l'Handbol Club Vallag de la Llagosta va empatar a 22 gols la jornada passada a la pista del Palautordera. Els de la nostra localitat rebran el proper cap de setmana la visita del Cambrils. 
URI:https://www.llagosta.cat/actualitat/noticies/el-senior-del-vallag-deixa-escapar-la-victoria-contra-el-palautordera-a-la-segona-part.html
CLASS:PUBLIC
END:VEVENT
END:VCALENDAR
