BEGIN:VCALENDAR
VERSION:2.0
CALSCALE:GREGORIAN
PRODID:-//Diputació de Barcelona//DibaCMS//EN
BEGIN:VEVENT
UID:5900
DTSTAMP:20260422T091108
DTSTART:20130314T000000
DTEND:20140314T000000
SUMMARY:L'equip sènior del Joventut Handbol encaixa la segona derrota de la temporada a Rubí
LOCATION:
METHOD:PUBLISH
X-WR-CALNAME:llagosta@llagosta.cat
X-WR-TIMEZONE:Europe/Madrid
DESCRIPTION:El sènior del Joventut Handbol La Llagosta va perdre el cap de setmana passat per 22 a 21 davant del Rubí. Aquesta ha estat la segona derrota d'aquesta temporada dels llagostencs. Els líders de la competició van ser víctimes del relaxament que dóna tenir assegurat el primer lloc del grup.
URI:https://www.llagosta.cat/actualitat/noticies/lequip-senior-del-joventut-handbol-encaixa-la-segona-derrota-de-la-temporada-a-rubi.html
CLASS:PUBLIC
END:VEVENT
END:VCALENDAR
