BEGIN:VCALENDAR
VERSION:2.0
CALSCALE:GREGORIAN
PRODID:-//Diputació de Barcelona//DibaCMS//EN
BEGIN:VEVENT
UID:5899
DTSTAMP:20260422T190458
DTSTART:20130314T000000
DTEND:20140314T000000
SUMMARY:L'Ajujntament impulsa la creació d'empreses d'activitats físiques i esportives saludables
LOCATION:
METHOD:PUBLISH
X-WR-CALNAME:llagosta@llagosta.cat
X-WR-TIMEZONE:Europe/Madrid
DESCRIPTION:L'Ajuntament de la Llagosta ha posat en marxa la segona fase del projecte Suem la samarreta, que consisteix a ajudar a la creació d'empreses d'activitats físiques i esportives saludables. Aquesta iniciativa compta amb el suport de la Diputació de Barcelona, el Consell Comarcal del Vallès Oriental i l'Escola Sant Gervasi i la col·laboració de diversos organismes, com ara les Cooperatives de Treball de Catalunya i COOP57, entre d'altres.
URI:https://www.llagosta.cat/actualitat/noticies/lajujntament-impulsa-la-creacio-dempreses-dactivitats-fisiques-i-esportives-saludables.html
CLASS:PUBLIC
END:VEVENT
END:VCALENDAR
