BEGIN:VCALENDAR
VERSION:2.0
CALSCALE:GREGORIAN
PRODID:-//Diputació de Barcelona//DibaCMS//EN
BEGIN:VEVENT
UID:5898
DTSTAMP:20260422T140802
DTSTART:20130313T000000
DTEND:20140313T000000
SUMMARY:L'Ajuntament augmenta la seva aportació econòmica per al servei de teleassistència
LOCATION:
METHOD:PUBLISH
X-WR-CALNAME:llagosta@llagosta.cat
X-WR-TIMEZONE:Europe/Madrid
DESCRIPTION:L'Ajuntament ha augmentat els ajuts que atorga per al finançament del servei local de teleassistència per fe-se càrrec del 53% del cost que suposen aquests aparells. En total, la Corporació local aportarà enguany 21.180 euros per fer front, juntament amb la Diputació de Barcelona, a les despeses que suposa el servei local de teleassistència. A la Llagosta, hi ha 220 persones que fan servir aquests aparells.
URI:https://www.llagosta.cat/actualitat/noticies/lajuntament-augmenta-la-seva-aportacio-economica-per-al-servei-de-teleassistencia.html
CLASS:PUBLIC
END:VEVENT
END:VCALENDAR
