BEGIN:VCALENDAR
VERSION:2.0
CALSCALE:GREGORIAN
PRODID:-//Diputació de Barcelona//DibaCMS//EN
BEGIN:VEVENT
UID:5897
DTSTAMP:20260422T111553
DTSTART:20130313T000000
DTEND:20140313T000000
SUMMARY:L'Associació de paradistes del Mercat Municipal renova part de la seva junta
LOCATION:
METHOD:PUBLISH
X-WR-CALNAME:llagosta@llagosta.cat
X-WR-TIMEZONE:Europe/Madrid
DESCRIPTION:L'Associació de paradistes del Mercat Municipal ha renovat part de la seva junta directiva per al proper any. Els càrrecs principals es mantenen i només canvien les vocalies. La presidenta continua sent Carmen Rodríguez. 
URI:https://www.llagosta.cat/actualitat/noticies/lassociacio-de-paradistes-del-mercat-municipal-renova-part-de-la-seva-junta.html
CLASS:PUBLIC
END:VEVENT
END:VCALENDAR
