BEGIN:VCALENDAR
VERSION:2.0
CALSCALE:GREGORIAN
PRODID:-//Diputació de Barcelona//DibaCMS//EN
BEGIN:VEVENT
UID:5895
DTSTAMP:20260422T092611
DTSTART:20130313T000000
DTEND:20140313T000000
SUMMARY:La Concòrdia guanya el Frederic Mistral (0-3) i suma una victòria després de dues derrotes
LOCATION:
METHOD:PUBLISH
X-WR-CALNAME:llagosta@llagosta.cat
X-WR-TIMEZONE:Europe/Madrid
DESCRIPTION:El Club Deportivo La Concòrdia va guanyar el cap de setmana passat per 0 a 3 a la pista del Frederic Mistral. Les de la Llagosta es retrobaven així amb el triomf després de dues derrotes seguides.
URI:https://www.llagosta.cat/actualitat/noticies/la-concordia-guanya-el-frederic-mistral-0-3-i-suma-una-victoria-despres-de-dues-derrotes.html
CLASS:PUBLIC
END:VEVENT
END:VCALENDAR
