BEGIN:VCALENDAR
VERSION:2.0
CALSCALE:GREGORIAN
PRODID:-//Diputació de Barcelona//DibaCMS//EN
BEGIN:VEVENT
UID:5894
DTSTAMP:20260424T061511
DTSTART:20130312T000000
DTEND:20140312T000000
SUMMARY:La Nit de les dones es va celebrar divendres al Centre Cultural amb 180 participants
LOCATION:
METHOD:PUBLISH
X-WR-CALNAME:llagosta@llagosta.cat
X-WR-TIMEZONE:Europe/Madrid
DESCRIPTION:Un total de 180 dones van participar al sopar que, amb el lema La Nit de les dones, es va fer al Centre Cultural amb motiu del Dia Internacional de les Dones. L'acte estava organitzat per l'Ajuntament de la Llagosta i l'associació Veus de Dona.
URI:https://www.llagosta.cat/actualitat/noticies/la-nit-de-les-dones-es-va-celebrar-divendres-al-centre-cultural-amb-180-participants.html
CLASS:PUBLIC
END:VEVENT
END:VCALENDAR
