BEGIN:VCALENDAR
VERSION:2.0
CALSCALE:GREGORIAN
PRODID:-//Diputació de Barcelona//DibaCMS//EN
BEGIN:VEVENT
UID:5893
DTSTAMP:20260423T095626
DTSTART:20130312T000000
DTEND:20140312T000000
SUMMARY:El judoka Iván Buendía es classifica per disputar el Campionat d'Espanya júnior
LOCATION:
METHOD:PUBLISH
X-WR-CALNAME:llagosta@llagosta.cat
X-WR-TIMEZONE:Europe/Madrid
DESCRIPTION:El judoka del Gimnàs la Llagosta Iván Buendía participarà al Campionat d'Espanya júnior. El de la nostra localitat es va proclamar subcampió a la fase sector est, celebrada el cap de setmana passat a Alacant.
URI:https://www.llagosta.cat/actualitat/noticies/el-judoka-ivan-buendia-es-classifica-per-disputar-el-campionat-despanya-junior.html
CLASS:PUBLIC
END:VEVENT
END:VCALENDAR
