BEGIN:VCALENDAR
VERSION:2.0
CALSCALE:GREGORIAN
PRODID:-//Diputació de Barcelona//DibaCMS//EN
BEGIN:VEVENT
UID:5892
DTSTAMP:20260423T015044
DTSTART:20130312T000000
DTEND:20140312T000000
SUMMARY:La reforma de la plaça de la Concòrdia estarà finalitzada durant el mes de juny
LOCATION:
METHOD:PUBLISH
X-WR-CALNAME:llagosta@llagosta.cat
X-WR-TIMEZONE:Europe/Madrid
DESCRIPTION:Les obres d'urbanització de la plaça de la Concòrdia avancen a bon ritme. La previsió és que la plaça estigui enllestida a finals de juny. Així ho va manifestar el regidor de Planificació Urbanística, Habitatge i Territori, Jordi Alonso, durant la visita a les obres que es va realitzar ahir.  
URI:https://www.llagosta.cat/actualitat/noticies/la-reforma-de-la-placa-de-la-concordia-estara-finalitzada-durant-el-mes-de-juny.html
CLASS:PUBLIC
END:VEVENT
END:VCALENDAR
