BEGIN:VCALENDAR
VERSION:2.0
CALSCALE:GREGORIAN
PRODID:-//Diputació de Barcelona//DibaCMS//EN
BEGIN:VEVENT
UID:5891
DTSTAMP:20260422T190402
DTSTART:20130312T000000
DTEND:20140312T000000
SUMMARY:El Viejas Glorias derrota el Terrassa (2-1) amb gols de Javi Valero i Miguel Muñoz
LOCATION:
METHOD:PUBLISH
X-WR-CALNAME:llagosta@llagosta.cat
X-WR-TIMEZONE:Europe/Madrid
DESCRIPTION:El Club Deportivo Viejas Glorias va guanyar dissabte per 2 a 1 el Terrassa. Els dos equips van jugar bé, però els llagostencs van estar més encertats de cara a gol.
URI:https://www.llagosta.cat/actualitat/noticies/el-viejas-glorias-derrota-el-terrassa-2-1-amb-gols-de-javi-valero-i-miguel-munoz.html
CLASS:PUBLIC
END:VEVENT
END:VCALENDAR
