BEGIN:VCALENDAR
VERSION:2.0
CALSCALE:GREGORIAN
PRODID:-//Diputació de Barcelona//DibaCMS//EN
BEGIN:VEVENT
UID:5890
DTSTAMP:20260422T122845
DTSTART:20130311T000000
DTEND:20140311T000000
SUMMARY:Obert el període de preinscripció escolar per al curs 2013-2014 fins al 22 de març
LOCATION:
METHOD:PUBLISH
X-WR-CALNAME:llagosta@llagosta.cat
X-WR-TIMEZONE:Europe/Madrid
DESCRIPTION:Ja està obert el període de preinscripció escolar per al curs 2013-2014 a les escoles d’ensenyament infantil, primari i secundari obligatori. Aquest tràmit es pot efectuar fins al 22 de març.
URI:https://www.llagosta.cat/actualitat/noticies/obert-el-periode-de-preinscripcio-escolar-per-al-curs-2013-2014-fins-al-22-de-marc.html
CLASS:PUBLIC
END:VEVENT
END:VCALENDAR
