BEGIN:VCALENDAR
VERSION:2.0
CALSCALE:GREGORIAN
PRODID:-//Diputació de Barcelona//DibaCMS//EN
BEGIN:VEVENT
UID:5889
DTSTAMP:20260423T020239
DTSTART:20130311T000000
DTEND:20140311T000000
SUMMARY:La Mostra d'Ensenyament 2013 té lloc durant aquesta setmana a Can Pelegrí
LOCATION:
METHOD:PUBLISH
X-WR-CALNAME:llagosta@llagosta.cat
X-WR-TIMEZONE:Europe/Madrid
DESCRIPTION:La planta baixa de Can Pelegrí acull des d'avui i fins al 18 de març la Mostra d'Ensenyament 2013. L'exposició està oberta de dilluns a divendres a les tardes, de 15.30 a 21 hores, i el dissabte al matí, de 9.30 a 12.30 hores.
URI:https://www.llagosta.cat/actualitat/noticies/la-mostra-densenyament-2013-te-lloc-durant-aquesta-setmana-a-can-pelegri.html
CLASS:PUBLIC
END:VEVENT
END:VCALENDAR
