BEGIN:VCALENDAR
VERSION:2.0
CALSCALE:GREGORIAN
PRODID:-//Diputació de Barcelona//DibaCMS//EN
BEGIN:VEVENT
UID:5888
DTSTAMP:20260422T053330
DTSTART:20130311T000000
DTEND:20140311T000000
SUMMARY:El Casal Infantil es va sumar al Dia Internacional de les Dones amb diverses activitats
LOCATION:
METHOD:PUBLISH
X-WR-CALNAME:llagosta@llagosta.cat
X-WR-TIMEZONE:Europe/Madrid
DESCRIPTION:El Casal Infantil va realitzar durant la setmana passada activitats relacionades amb el Dia Internacional de les Dones: dinàmiques de grup, joc simbòlic, decoració, tallers, jocs de rol...Dijous, es va fer un acte de portes obertes per a totes les edats amb tallers de punt de llibre amb papers artesans de diferents països del món, elaboració de titelles de pal de dones i oficis, llaços de color lila amb material tou i decoració i la possibilitat de gaudir dels diferents espais de joc del Casal Infantil. 
URI:https://www.llagosta.cat/actualitat/noticies/el-casal-infantil-es-va-sumar-al-dia-internacional-de-les-dones-amb-diverses-activitats.html
CLASS:PUBLIC
END:VEVENT
END:VCALENDAR
