BEGIN:VCALENDAR
VERSION:2.0
CALSCALE:GREGORIAN
PRODID:-//Diputació de Barcelona//DibaCMS//EN
BEGIN:VEVENT
UID:5887
DTSTAMP:20260422T122614
DTSTART:20130311T000000
DTEND:20130311T000000
SUMMARY:Demà, xerrada a l'Ajuntament en el marc de la Quinzena Gegantera de la Llagosta
LOCATION:
METHOD:PUBLISH
X-WR-CALNAME:llagosta@llagosta.cat
X-WR-TIMEZONE:Europe/Madrid
DESCRIPTION:La Colla Gegantera de la nostra localitat continuarà demà amb els actes de la Quinzena Gegantera de la Llagosta. En concret, a partir de les set de la tarda, es farà a la Sala de plens de l'Ajuntament una xerrada col·loqui sota el títol de L'origen i la tradició dels gegants. L'encarregat de donar la conferència serà Joan-Miquel Merino, geganter de Rubí i recercador de la cultura tradicional i popular.
URI:https://www.llagosta.cat/actualitat/noticies/dema-xerrada-a-lajuntament-en-el-marc-de-la-quinzena-gegantera-de-la-llagosta.html
CLASS:PUBLIC
END:VEVENT
END:VCALENDAR
