BEGIN:VCALENDAR
VERSION:2.0
CALSCALE:GREGORIAN
PRODID:-//Diputació de Barcelona//DibaCMS//EN
BEGIN:VEVENT
UID:5886
DTSTAMP:20260423T052926
DTSTART:20130311T000000
DTEND:20140211T000000
SUMMARY:El Fútbol Sala Unión Llagostense derrota el Teià (1-4) i es col·loca en quarta posició
LOCATION:
METHOD:PUBLISH
X-WR-CALNAME:llagosta@llagosta.cat
X-WR-TIMEZONE:Europe/Madrid
DESCRIPTION:El primer equip del Fútbol Sala Unión Llagostense va derrotar la jornada passada el Teià per 1 a 4. Els llagostencs no van estar encertats de cara a gol durant la primera part i, al descans, es va arribar amb l'empat a zero inicial.
URI:https://www.llagosta.cat/actualitat/noticies/el-futbol-sala-union-llagostense-derrota-el-teia-1-4-i-es-colloca-en-quarta-posicio.html
CLASS:PUBLIC
END:VEVENT
END:VCALENDAR
