BEGIN:VCALENDAR
VERSION:2.0
CALSCALE:GREGORIAN
PRODID:-//Diputació de Barcelona//DibaCMS//EN
BEGIN:VEVENT
UID:5885
DTSTAMP:20260422T091008
DTSTART:20130311T000000
DTEND:20140311T000000
SUMMARY:La Policia Local fa una campanya de control dels elements passius de seguretat dels vehicles
LOCATION:
METHOD:PUBLISH
X-WR-CALNAME:llagosta@llagosta.cat
X-WR-TIMEZONE:Europe/Madrid
DESCRIPTION:La Policia Local de la Llagosta realitza durant aquesta setmana tot un seguit de controls i vigilància de l'ús del cinturó de seguretat, del casc i dels sistemes de retenció infantils. L'acció s'emmarca en una campanya coordinada amb els Mossos d'Esquadra d’abast territorial europeu.
URI:https://www.llagosta.cat/actualitat/noticies/la-policia-local-fa-una-campanya-de-control-dels-elements-passius-de-seguretat-dels-vehicles.html
CLASS:PUBLIC
END:VEVENT
END:VCALENDAR
