BEGIN:VCALENDAR
VERSION:2.0
CALSCALE:GREGORIAN
PRODID:-//Diputació de Barcelona//DibaCMS//EN
BEGIN:VEVENT
UID:5884
DTSTAMP:20260422T122200
DTSTART:20130308T000000
DTEND:20140308T000000
SUMMARY:La Quinzena Gegantera de la Llagosta va començar ahir amb un acte al Centre Cultural
LOCATION:
METHOD:PUBLISH
X-WR-CALNAME:llagosta@llagosta.cat
X-WR-TIMEZONE:Europe/Madrid
DESCRIPTION:La inauguració de la mostra Gegants de Paper i la presentació de la publicació  Lèxic de català Gegants del Vallès Oriental va servir per obrir la Quinzena Gegantera de la Llagosta. L'acte, organitzat per la Colla Gegantera de la nostra localitat, va tenir lloc ahir al vestíbul del Centre Cultural.
URI:https://www.llagosta.cat/actualitat/noticies/la-quinzena-gegantera-de-la-llagosta-va-comencar-ahir-amb-un-acte-al-centre-cultural.html
CLASS:PUBLIC
END:VEVENT
END:VCALENDAR
