BEGIN:VCALENDAR
VERSION:2.0
CALSCALE:GREGORIAN
PRODID:-//Diputació de Barcelona//DibaCMS//EN
BEGIN:VEVENT
UID:5883
DTSTAMP:20260422T150338
DTSTART:20130308T000000
DTEND:20140308T000000
SUMMARY:Mónica Benítez va presentar ahir al saló de plens de l'Ajuntament el seu segon llibre
LOCATION:
METHOD:PUBLISH
X-WR-CALNAME:llagosta@llagosta.cat
X-WR-TIMEZONE:Europe/Madrid
DESCRIPTION:La Sala de plens de l'Ajuntament de la Llagosta es va omplir ahir durant la presentació del llibre La alondra que contaba historias, de la veïna de la nostra localitat Mónica Benítez. La segona obra d'aquesta escriptora és un llibre de contes adreçat al públic infantil i juvenil.
URI:https://www.llagosta.cat/actualitat/noticies/monica-benitez-va-presentar-ahir-al-salo-de-plens-de-lajuntament-el-seu-segon-llibre.html
CLASS:PUBLIC
END:VEVENT
END:VCALENDAR
