BEGIN:VCALENDAR
VERSION:2.0
CALSCALE:GREGORIAN
PRODID:-//Diputació de Barcelona//DibaCMS//EN
BEGIN:VEVENT
UID:5882
DTSTAMP:20260422T092722
DTSTART:20130308T000000
DTEND:20140308T000000
SUMMARY:La Casa de Andalucía celebrarà diumenge a la Llagosta el Día de Andalucía
LOCATION:
METHOD:PUBLISH
X-WR-CALNAME:llagosta@llagosta.cat
X-WR-TIMEZONE:Europe/Madrid
DESCRIPTION:La Casa de Andalucía celebrarà diumenge el Día de Andalucía. Els actes principals se celebraran al Centre Cultural de la plaça de l'alcalde Sisó Pons.
URI:https://www.llagosta.cat/actualitat/noticies/la-casa-de-andalucia-celebrara-diumenge-a-la-llagosta-el-dia-de-andalucia.html
CLASS:PUBLIC
END:VEVENT
END:VCALENDAR
