BEGIN:VCALENDAR
VERSION:2.0
CALSCALE:GREGORIAN
PRODID:-//Diputació de Barcelona//DibaCMS//EN
BEGIN:VEVENT
UID:5881
DTSTAMP:20260422T200046
DTSTART:20130308T000000
DTEND:20140308T000000
SUMMARY:El sènior de l'EBC jugarà contra el Parets després de perdre contra el Círcol Catòlic B
LOCATION:
METHOD:PUBLISH
X-WR-CALNAME:llagosta@llagosta.cat
X-WR-TIMEZONE:Europe/Madrid
DESCRIPTION:El sènior de l'Esportiu Bàsquet Club de la Llagosta visitarà aquest cap de setmana la pista del Parets. Els llagostencs van perdre la jornada passada per un ajustat 69 a 72 contra el Círcol Catòlic de Badalona B.
URI:https://www.llagosta.cat/actualitat/noticies/el-senior-de-lebc-jugara-contra-el-parets-despres-de-perdre-contra-el-circol-catolic-b.html
CLASS:PUBLIC
END:VEVENT
END:VCALENDAR
