BEGIN:VCALENDAR
VERSION:2.0
CALSCALE:GREGORIAN
PRODID:-//Diputació de Barcelona//DibaCMS//EN
BEGIN:VEVENT
UID:5880
DTSTAMP:20260422T230459
DTSTART:20130308T000000
DTEND:20140308T000000
SUMMARY:La quarta Trobada de Joves Judokes se celebrarà demà al Complex Esportiu El Turó
LOCATION:
METHOD:PUBLISH
X-WR-CALNAME:llagosta@llagosta.cat
X-WR-TIMEZONE:Europe/Madrid
DESCRIPTION:Demà dissabte, se celebrarà al Complex Esportiu Municipal El Turó la quarta Trobada de Joves Judokes. A l'activitat participaran alumnes d'ensenyament infantil i primari de les escoles de la nostra localitat que practiquen aquesta modalitat esportiva. La trobada està organitzada per les AMPA de les quatre escoles de la Llagosta.
URI:https://www.llagosta.cat/actualitat/noticies/la-quarta-trobada-de-joves-judokes-se-celebrara-dema-al-complex-esportiu-el-turo.html
CLASS:PUBLIC
END:VEVENT
END:VCALENDAR
