BEGIN:VCALENDAR
VERSION:2.0
CALSCALE:GREGORIAN
PRODID:-//Diputació de Barcelona//DibaCMS//EN
BEGIN:VEVENT
UID:5879
DTSTAMP:20260423T013950
DTSTART:20130307T000000
DTEND:20140307T000000
SUMMARY:El CD la Concòrdia perd contra el líder, l'AECS l'Hospitalet (1-4)
LOCATION:
METHOD:PUBLISH
X-WR-CALNAME:llagosta@llagosta.cat
X-WR-TIMEZONE:Europe/Madrid
DESCRIPTION:El Club Deportivo La Concòrdia va perdre la jornada passada per 1 a 4 contra el líder, l'AECS l'Hospitalet. El conjunt de la nostra localitat va presentar-se al partit amb una plantilla molt justa que no va permetre fer canvis. El proper cap de setmana, les de la Llagosta es desplaçaran a la pista del Frederic Mistral.
URI:https://www.llagosta.cat/actualitat/noticies/el-cd-la-concordia-perd-contra-el-lider-laecs-lhospitalet-1-4.html
CLASS:PUBLIC
END:VEVENT
END:VCALENDAR
