BEGIN:VCALENDAR
VERSION:2.0
CALSCALE:GREGORIAN
PRODID:-//Diputació de Barcelona//DibaCMS//EN
BEGIN:VEVENT
UID:5878
DTSTAMP:20260422T085935
DTSTART:20130307T000000
DTEND:20140307T000000
SUMMARY:L'Ajuntament aprofitarà més el pou de Can Xiquet per pal·liar l'increment del preu de l'aigua
LOCATION:
METHOD:PUBLISH
X-WR-CALNAME:llagosta@llagosta.cat
X-WR-TIMEZONE:Europe/Madrid
DESCRIPTION:L'Ajuntament de la Llagosta ampliarà l'ús del pou de Can Xiquet per pal·liar els efectes que l'increment del preu de l'aigua pugui tenir enguany en el rebut de subministrament. L'Agència Catalana de l'Aigua ha atorgat a l'Ajuntament permís per poder incrementar de 85.000 a 277.000 metres cúbics la quantitat d'aigua que actualment s'extreu del pou.
URI:https://www.llagosta.cat/actualitat/noticies/lajuntament-aprofitara-mes-el-pou-de-can-xiquet-per-palliar-lincrement-del-preu-de-laigua.html
CLASS:PUBLIC
END:VEVENT
END:VCALENDAR
