BEGIN:VCALENDAR
VERSION:2.0
CALSCALE:GREGORIAN
PRODID:-//Diputació de Barcelona//DibaCMS//EN
BEGIN:VEVENT
UID:5877
DTSTAMP:20260422T224305
DTSTART:20130307T000000
DTEND:20140307T000000
SUMMARY:El sènior del Joventut Handbol acabarà la primera fase del campionat com a líder de grup
LOCATION:
METHOD:PUBLISH
X-WR-CALNAME:llagosta@llagosta.cat
X-WR-TIMEZONE:Europe/Madrid
DESCRIPTION:El sènior del Joventut Handbol la Llagosta ja és matemàticament campió del grup A de la Tercera Catalana. Els de la nostra localitat s'han assegurat passar com a caps de sèrie a la fase d'ascens a Tercera Preferent. El conjunt llagostenc va guanyar el cap de setmana passat el Pau Casals per 38 a 19. 
URI:https://www.llagosta.cat/actualitat/noticies/el-senior-del-joventut-handbol-acabara-la-primera-fase-del-campionat-com-a-lider-de-grup.html
CLASS:PUBLIC
END:VEVENT
END:VCALENDAR
