BEGIN:VCALENDAR
VERSION:2.0
CALSCALE:GREGORIAN
PRODID:-//Diputació de Barcelona//DibaCMS//EN
BEGIN:VEVENT
UID:5876
DTSTAMP:20260422T154915
DTSTART:20130307T000000
DTEND:20140307T000000
SUMMARY:El Sopar de les dones centrarà demà el Dia Internacional de les Dones a la Llagosta
LOCATION:
METHOD:PUBLISH
X-WR-CALNAME:llagosta@llagosta.cat
X-WR-TIMEZONE:Europe/Madrid
DESCRIPTION:Demà es desenvoluparan la majoria d'activitats programades a la Llagosta amb motiu del Dia Internacional de les Dones. L'acte central serà el Sopar de les dones, que es farà al Centre Cultural.
URI:https://www.llagosta.cat/actualitat/noticies/el-sopar-de-les-dones-centrara-dema-el-dia-internacional-de-les-dones-a-la-llagosta.html
CLASS:PUBLIC
END:VEVENT
END:VCALENDAR
