BEGIN:VCALENDAR
VERSION:2.0
CALSCALE:GREGORIAN
PRODID:-//Diputació de Barcelona//DibaCMS//EN
BEGIN:VEVENT
UID:5875
DTSTAMP:20260422T070735
DTSTART:20130307T000000
DTEND:20140307T000000
SUMMARY:Adif finalitza la recuperació mediambiental de la conca del riu Besòs
LOCATION:
METHOD:PUBLISH
X-WR-CALNAME:llagosta@llagosta.cat
X-WR-TIMEZONE:Europe/Madrid
DESCRIPTION:L'empresa Adif ha comunicat que ha finalitzat els treballs de recuperació mediambiental de l'entorn fluvial del riu Besòs. Això inclou també les rieres Seca, de Caldes i la de Gallecs. Aquesta actuació arriba després de que s'hagi posat en marxa la línia d'alta velocitat entre Barcelona i Figueres.
URI:https://www.llagosta.cat/actualitat/noticies/adif-finalitza-la-recuperacio-mediambiental-de-la-conca-del-riu-besos.html
CLASS:PUBLIC
END:VEVENT
END:VCALENDAR
