BEGIN:VCALENDAR
VERSION:2.0
CALSCALE:GREGORIAN
PRODID:-//Diputació de Barcelona//DibaCMS//EN
BEGIN:VEVENT
UID:5874
DTSTAMP:20260422T124012
DTSTART:20130307T000000
DTEND:20140307T000000
SUMMARY:El cinquè aniversari del CIRD-Espai d'Igualtat es va celebrar ahir amb un emotiu acte
LOCATION:
METHOD:PUBLISH
X-WR-CALNAME:llagosta@llagosta.cat
X-WR-TIMEZONE:Europe/Madrid
DESCRIPTION:L'Ajuntament de la Llagosta va celebrar ahir el cinquè aniversari del Centre d'Informació i Recursos per a Dones (CIRD)-Espai d'Igualtat en el marc de la programació per commemorar el Dia Internacional de les Dones. L'acte va tenir lloc a la seu d'aquest servei, a la segona planta del Centre Cultural i Juvenil Can Pelegrí.
URI:https://www.llagosta.cat/actualitat/noticies/el-cinque-aniversari-del-cird-espai-digualtat-es-va-celebrar-ahir-amb-un-emotiu-acte.html
CLASS:PUBLIC
END:VEVENT
END:VCALENDAR
