BEGIN:VCALENDAR
VERSION:2.0
CALSCALE:GREGORIAN
PRODID:-//Diputació de Barcelona//DibaCMS//EN
BEGIN:VEVENT
UID:5872
DTSTAMP:20260422T165829
DTSTART:20130306T000000
DTEND:20140306T000000
SUMMARY:Dues medalles per al Club de Judo de la Llagosta en el Campionat de Catalunya de Kius
LOCATION:
METHOD:PUBLISH
X-WR-CALNAME:llagosta@llagosta.cat
X-WR-TIMEZONE:Europe/Madrid
DESCRIPTION:El Club de Judo del Gimnàs La Llagosta va aconseguir dues medalles al Campionat de Catalunya de Kius celebrat dissabte a Barcelona. Els germans Sergiu i Andrei Ivancea van pujar al podi en les seves respectives categories a la competició que enfronta judokes que encara no són cinturó negre.
URI:https://www.llagosta.cat/actualitat/noticies/dues-medalles-per-al-club-de-judo-de-la-llagosta-en-el-campionat-de-catalunya-de-kius.html
CLASS:PUBLIC
END:VEVENT
END:VCALENDAR
