BEGIN:VCALENDAR
VERSION:2.0
CALSCALE:GREGORIAN
PRODID:-//Diputació de Barcelona//DibaCMS//EN
BEGIN:VEVENT
UID:5871
DTSTAMP:20260422T141313
DTSTART:20130306T000000
DTEND:20140306T000000
SUMMARY:El sènior del Vallag jugarà a Palautordera després de descansar el cap de setmana
LOCATION:
METHOD:PUBLISH
X-WR-CALNAME:llagosta@llagosta.cat
X-WR-TIMEZONE:Europe/Madrid
DESCRIPTION:El sènior de l'Handbol Club Vallag de la Llagosta jugarà el proper cap de setmana contra el Palautordera, després d'haver descansat la jornada passada. Els de la nostra localitat s'han vist beneficiats pels resultats dels partits que disputaven els seus principals rivals a la lliga.
URI:https://www.llagosta.cat/actualitat/noticies/el-senior-del-vallag-jugara-a-palautordera-despres-de-descansar-el-cap-de-setmana.html
CLASS:PUBLIC
END:VEVENT
END:VCALENDAR
