BEGIN:VCALENDAR
VERSION:2.0
CALSCALE:GREGORIAN
PRODID:-//Diputació de Barcelona//DibaCMS//EN
BEGIN:VEVENT
UID:5870
DTSTAMP:20260422T140930
DTSTART:20130306T000000
DTEND:20140306T000000
SUMMARY:Obert el termini de presentació per al Concurs de Punts de llibre de la Biblioteca
LOCATION:
METHOD:PUBLISH
X-WR-CALNAME:llagosta@llagosta.cat
X-WR-TIMEZONE:Europe/Madrid
DESCRIPTION:La Biblioteca de la Llagosta ha convocat el Concurs de Punts de llibre 2013, amb motiu de la festa de Sant Jordi. Aquest any, el certamen està obert a tota la població, tant infants i joves, com adults.

URI:https://www.llagosta.cat/actualitat/noticies/obert-el-termini-de-presentacio-per-al-concurs-de-punts-de-llibre-de-la-biblioteca.html
CLASS:PUBLIC
END:VEVENT
END:VCALENDAR
