BEGIN:VCALENDAR
VERSION:2.0
CALSCALE:GREGORIAN
PRODID:-//Diputació de Barcelona//DibaCMS//EN
BEGIN:VEVENT
UID:5869
DTSTAMP:20260423T062416
DTSTART:20130306T000000
DTEND:20140306T000000
SUMMARY:La Sala de plens acollirà demà la presentació del segon llibre de Mónica Benítez
LOCATION:
METHOD:PUBLISH
X-WR-CALNAME:llagosta@llagosta.cat
X-WR-TIMEZONE:Europe/Madrid
DESCRIPTION:La Sala de plens de l'Ajuntament de la Llagosta acollirà demà dijous la presentació del llibre La alondra que contaba historias, de la veïna de la nostra localitat Mónica Benítez. L'acte es farà a les set de la tarda.
URI:https://www.llagosta.cat/actualitat/noticies/la-sala-de-plens-acollira-dema-la-presentacio-del-segon-llibre-de-monica-benitez.html
CLASS:PUBLIC
END:VEVENT
END:VCALENDAR
