BEGIN:VCALENDAR
VERSION:2.0
CALSCALE:GREGORIAN
PRODID:-//Diputació de Barcelona//DibaCMS//EN
BEGIN:VEVENT
UID:5868
DTSTAMP:20260422T053357
DTSTART:20130306T000000
DTEND:20140306T000000
SUMMARY:La Quinzena Gegantera de la Llagosta comença demà amb un acte al Centre Cultural
LOCATION:
METHOD:PUBLISH
X-WR-CALNAME:llagosta@llagosta.cat
X-WR-TIMEZONE:Europe/Madrid
DESCRIPTION:Demà dijous, tindrà lloc el tret de sortida de la Quinzena Gegantera de la Llagosta. La programació, organitzada per la Colla Gegantera de la Llagosta, començarà amb la inauguració de l'exposició itinerant Gegants de Paper.
URI:https://www.llagosta.cat/actualitat/noticies/la-quinzena-gegantera-de-la-llagosta-comenca-dema-amb-un-acte-al-centre-cultural.html
CLASS:PUBLIC
END:VEVENT
END:VCALENDAR
