BEGIN:VCALENDAR
VERSION:2.0
CALSCALE:GREGORIAN
PRODID:-//Diputació de Barcelona//DibaCMS//EN
BEGIN:VEVENT
UID:5867
DTSTAMP:20260422T130655
DTSTART:20130305T000000
DTEND:20140305T000000
SUMMARY:L'alcalde, Alberto López, demana a Artur Mas més col·laboració amb els ajuntaments
LOCATION:
METHOD:PUBLISH
X-WR-CALNAME:llagosta@llagosta.cat
X-WR-TIMEZONE:Europe/Madrid
DESCRIPTION:L'alcalde de la Llagosta, Alberto López, va demanar ahir al president de la Generalitat de Catalunya, Artur Mas, que el Govern tingui més sensibilitat i col·laboració amb els ajuntaments per poder fer front a les tensions de tresoreria que pateixen les corporacions locals.
URI:https://www.llagosta.cat/actualitat/noticies/lalcalde-alberto-lopez-demana-a-artur-mas-mes-collaboracio-amb-els-ajuntaments.html
CLASS:PUBLIC
END:VEVENT
END:VCALENDAR
