BEGIN:VCALENDAR
VERSION:2.0
CALSCALE:GREGORIAN
PRODID:-//Diputació de Barcelona//DibaCMS//EN
BEGIN:VEVENT
UID:5866
DTSTAMP:20260422T122544
DTSTART:20130305T000000
DTEND:20140305T000000
SUMMARY:L'Ajuntament demana una subvenció a la Generalitat per rehabilitar la masia de Can Baqué
LOCATION:
METHOD:PUBLISH
X-WR-CALNAME:llagosta@llagosta.cat
X-WR-TIMEZONE:Europe/Madrid
DESCRIPTION:La Junta de Govern de l’Ajuntament de la Llagosta ha aprovat demanar a la Generalitat de Catalunya subvencions per a dos projectes: la rehabilitació de la masia de Can Baqué i la connexió directe de la xarxa de subministrament d'aigua potable a la xarxa de la companyia Aigües Ter-Llobregat (ATLL). Les peticions es fan en el marc del Pla Únic d’Obres i Serveis de Catalunya (PUOSC) per al període 2013-2016.
URI:https://www.llagosta.cat/actualitat/noticies/lajuntament-demana-una-subvencio-a-la-generalitat-per-rehabilitar-la-masia-de-can-baque.html
CLASS:PUBLIC
END:VEVENT
END:VCALENDAR
