BEGIN:VCALENDAR
VERSION:2.0
CALSCALE:GREGORIAN
PRODID:-//Diputació de Barcelona//DibaCMS//EN
BEGIN:VEVENT
UID:5865
DTSTAMP:20260422T122746
DTSTART:20130305T000000
DTEND:20140305T000000
SUMMARY:Demà, acte per celebrar els cinc annys d'existència del CIRD-Espai d'Igualtat
LOCATION:
METHOD:PUBLISH
X-WR-CALNAME:llagosta@llagosta.cat
X-WR-TIMEZONE:Europe/Madrid
DESCRIPTION:Demà se celebrarà el cinquè aniversari del Centre d'Informació i Recursos per a Dones (CIRD) Espai d'Igualtat. L'acte, que començarà a les set de la tarda, s'emmarca en la programació per commemorar el Dia Internacional de les Dones. El CIRD es va inaugurar el 7 de març del 2008. Aquest servei està ubicat a la segona planta del Centre Cultural i Juvenil Can Pelegrí. 
URI:https://www.llagosta.cat/actualitat/noticies/dema-acte-per-celebrar-els-cinc-annys-dexistencia-del-cird-espai-digualtat.html
CLASS:PUBLIC
END:VEVENT
END:VCALENDAR
