BEGIN:VCALENDAR
VERSION:2.0
CALSCALE:GREGORIAN
PRODID:-//Diputació de Barcelona//DibaCMS//EN
BEGIN:VEVENT
UID:5864
DTSTAMP:20260422T130527
DTSTART:20130305T000000
DTEND:20140304T000000
SUMMARY:El Turó va acollir ahir el triangular d'handbol amb la selecció universitària del Japó
LOCATION:
METHOD:PUBLISH
X-WR-CALNAME:llagosta@llagosta.cat
X-WR-TIMEZONE:Europe/Madrid
DESCRIPTION:El Complex Esportiu Municipal El Turó es va omplir ahir de públic durant el triangular que va enfrontar a una selecció universitària japonesa d'handbol al sènior del Joventut Handbol La Llagosta i al BM Granollers C. La competició formava part de l'estada que estan fent els nipons a Barcelona per prepara la temporada.
URI:https://www.llagosta.cat/actualitat/noticies/el-turo-va-acollir-ahir-el-triangular-dhandbol-amb-la-seleccio-universitaria-del-japo.html
CLASS:PUBLIC
END:VEVENT
END:VCALENDAR
