BEGIN:VCALENDAR
VERSION:2.0
CALSCALE:GREGORIAN
PRODID:-//Diputació de Barcelona//DibaCMS//EN
BEGIN:VEVENT
UID:5863
DTSTAMP:20260422T033352
DTSTART:20130305T000000
DTEND:20140304T000000
SUMMARY:El Club Deportivo Viejas Glorias cau al camp del Santa Perpètua per 4 a 2
LOCATION:
METHOD:PUBLISH
X-WR-CALNAME:llagosta@llagosta.cat
X-WR-TIMEZONE:Europe/Madrid
DESCRIPTION:El Club Deportivo Viejas Glorias va perdre la jornada passada al camp del Santa Perpètua per 4 a 2. Els llagostencs van fer una bona primera part, però a la segona van patir diverses lesions i els perpetuencs ho van aprofitar per donar-li la volta al marcador.
URI:https://www.llagosta.cat/actualitat/noticies/el-club-deportivo-viejas-glorias-cau-al-camp-del-santa-perpetua-per-4-a-2.html
CLASS:PUBLIC
END:VEVENT
END:VCALENDAR
