BEGIN:VCALENDAR
VERSION:2.0
CALSCALE:GREGORIAN
PRODID:-//Diputació de Barcelona//DibaCMS//EN
BEGIN:VEVENT
UID:5862
DTSTAMP:20260422T090714
DTSTART:20130304T000000
DTEND:20140304T000000
SUMMARY:Un petit incendi, dissabte a l'empresa Superan, ubicada al polígon industrial
LOCATION:
METHOD:PUBLISH
X-WR-CALNAME:llagosta@llagosta.cat
X-WR-TIMEZONE:Europe/Madrid
DESCRIPTION:L'empresa Superan de la Llagosta va patir dissabte un petit d'incendi. El foc va cremar una canonada de PVC i uns plàstics que van ocasionar molta fumera. Un treballador va tenir que ser traslladat a l'Hospital de Mollet per inhalació de fum.
URI:https://www.llagosta.cat/actualitat/noticies/un-petit-incendi-dissabte-a-lempresa-superan-ubicada-al-poligon-industrial.html
CLASS:PUBLIC
END:VEVENT
END:VCALENDAR
