BEGIN:VCALENDAR
VERSION:2.0
CALSCALE:GREGORIAN
PRODID:-//Diputació de Barcelona//DibaCMS//EN
BEGIN:VEVENT
UID:5861
DTSTAMP:20260422T033242
DTSTART:20130304T000000
DTEND:20140304T000000
SUMMARY:Un detingut per la Policia Local de la Llagosta per un cas de violència de gènere
LOCATION:
METHOD:PUBLISH
X-WR-CALNAME:llagosta@llagosta.cat
X-WR-TIMEZONE:Europe/Madrid
DESCRIPTION:La Policia Local de la Llagosta va detenir ahir un home per violència de gènere. La dona, víctima de diverses lesions lleus, va ser atesa al Centre d'Assistència Primària de la nostra localitat.
URI:https://www.llagosta.cat/actualitat/noticies/un-detingut-per-la-policia-local-de-la-llagosta-per-un-cas-de-violencia-de-genere.html
CLASS:PUBLIC
END:VEVENT
END:VCALENDAR
