BEGIN:VCALENDAR
VERSION:2.0
CALSCALE:GREGORIAN
PRODID:-//Diputació de Barcelona//DibaCMS//EN
BEGIN:VEVENT
UID:5860
DTSTAMP:20260422T132705
DTSTART:20130304T000000
DTEND:20140304T000000
SUMMARY:L'Asociación Rociera Andaluza celebra el Día d'Andalucía amb diverses activitats
LOCATION:
METHOD:PUBLISH
X-WR-CALNAME:llagosta@llagosta.cat
X-WR-TIMEZONE:Europe/Madrid
DESCRIPTION:L'Asociación Rociera Andaluza de la Llagosta va celebrar el cap de setmana el Día de Andalucía. La seu de l'entitat, al carrer de Girona, ha estat l'escenari de tot un seguit d'activitats obertes a tota la població.
URI:https://www.llagosta.cat/actualitat/noticies/lasociacion-rociera-andaluza-celebra-el-dia-dandalucia-amb-diverses-activitats.html
CLASS:PUBLIC
END:VEVENT
END:VCALENDAR
